BEGIN:VCALENDAR
VERSION:2.0
PRODID:-//Tukios.com/
BEGIN:VEVENT
UID:66c1443f-cbae-41aa-8ba7-7cfee4ab2c1c@www.honorablefuneralservices.com
DTSTAMP:20260423T114146Z
DTSTART:20260428T180000Z
DTEND:20260428T190000Z
SUMMARY:Burial
DESCRIPTION:
URL:https://www.honorablefuneralservices.com/obituaries/jesus-juarez-cruz
LOCATION:Oakdale Mortuary & Memorial Park 1401 S Grand Ave  Glendora CA 
	91740
GEO:34.1121812;-117.8758301
END:VEVENT
END:VCALENDAR