BEGIN:VCALENDAR
VERSION:2.0
PRODID:-//Tukios.com/
BEGIN:VEVENT
UID:f96b874a-2ff5-4214-a797-2bb9b54c3991@www.honorablefuneralservices.com
DTSTAMP:20260423T114107Z
DTSTART:20260428T163000Z
DTEND:20260428T180000Z
SUMMARY:Mass
DESCRIPTION:
URL:https://www.honorablefuneralservices.com/obituaries/jesus-juarez-cruz
LOCATION: 381 W Center St  Covina CA 91723
GEO:34.0853932;-117.8965226
END:VEVENT
END:VCALENDAR