BEGIN:VCALENDAR
VERSION:2.0
PRODID:-//Tukios.com/
BEGIN:VEVENT
UID:93970a28-8cb6-413e-9c5e-5ca496771374@www.honorablefuneralservices.com
DTSTAMP:20260423T113836Z
DTSTART:20260428T000000Z
DTEND:20260428T030000Z
SUMMARY:Viewing
DESCRIPTION:
URL:https://www.honorablefuneralservices.com/obituaries/jesus-juarez-cruz
LOCATION: 381 W Center St  Covina CA 91723
GEO:34.0853932;-117.8965226
END:VEVENT
END:VCALENDAR